BEGIN:VCALENDAR
VERSION:2.0
PRODID:-//GZV Wunstorf//NONSGML kigkonsult.se iCalcreator 2.41.92//
CALSCALE:GREGORIAN
METHOD:PUBLISH
UID:62666462-3032-4466-b762-303137623139
X-WR-CALNAME:iCagenda
X-WR-CALDESC:Event Management Extension for Joomla!
X-WR-RELCALID:3E26604A-50F4-4449-8B3E-E4F4932D05B5
X-WR-TIMEZONE:UTC
BEGIN:VTIMEZONE
TZID:UTC
END:VTIMEZONE
BEGIN:VEVENT
UID:64373432-3036-4934-b561-393531323364
DTSTAMP:20260421T203225Z
CATEGORIES:Versammlung
CLASS:PUBLIC
DESCRIPTION:
DTSTART:20260904T190000Z
DTEND:20260904T190000Z
GEO:+52.416515;+9.447039
LOCATION:Vereinslokal Wehrmann-Blume
ORGANIZER:
SEQUENCE:1
SUMMARY:Monatsversammlung
TRANSP:OPAQUE
URL:http://j4.gzv-wunstorf.de/index.php/veranstaltungen/6-monatsversammlung
 /2026-09-04-19-00
END:VEVENT
END:VCALENDAR
