BEGIN:VCALENDAR
VERSION:2.0
PRODID:-//GZV Wunstorf//NONSGML kigkonsult.se iCalcreator 2.41.92//
CALSCALE:GREGORIAN
METHOD:PUBLISH
UID:36613231-6438-4164-b235-333138323064
X-WR-CALNAME:iCagenda
X-WR-CALDESC:Event Management Extension for Joomla!
X-WR-RELCALID:3E26604A-50F4-4449-8B3E-E4F4932D05B5
X-WR-TIMEZONE:UTC
BEGIN:VTIMEZONE
TZID:UTC
END:VTIMEZONE
BEGIN:VEVENT
UID:33613933-3263-4235-a637-333231373738
DTSTAMP:20260421T203454Z
CATEGORIES:Versammlung
CLASS:PUBLIC
DESCRIPTION:
DTSTART:20260605T190000Z
DTEND:20260605T190000Z
GEO:+52.416515;+9.447039
LOCATION:Vereinslokal Wehrmann-Blume
ORGANIZER:
SEQUENCE:1
SUMMARY:Monatsversammlung
TRANSP:OPAQUE
URL:http://j4.gzv-wunstorf.de/index.php/veranstaltungen/veranstaltungen/6-m
 onatsversammlung/2026-06-05-19-00
END:VEVENT
END:VCALENDAR
